Workbook

Sheet átlag adagsz.
B1: MOGYORÓD NONPROFIT KFT
B4: 2026 első félévben az átlag adag számítása
B7: 100%-os normatív kedv.-ben részesülők | E7: 50%-os normatív kedv.-ben részesülők | H7: Normatív kedv.-ben nem részesülők | K7: összesen
B8: 3xétk. | C8: 2xétk. | D8: 1xétk. | E8: 3xétk. | F8: 2xétk. | G8: 1xétk. | H8: 3xétk. | I8: 2xétk. | J8: 1xétk. | K8: 3xétk. | L8: 2x étk. | M8: 1x étk.
A9: január | B9: 390 | C9: 53 | D9: 20 | E9: 1317 | F9: 781 | G9: 146 | H9: 2190 | I9: 956 | J9: 607 | K9: =+H9+E9+B9 -> 3897 | L9: =+I9+F9+C9 -> 1790 | M9: =+J9+G9+D9 -> 773
A10: február | B10: 363 | C10: 43 | D10: 18 | E10: 1203 | F10: 765 | G10: 162 | H10: 2032 | I10: 940 | J10: 552 | K10: =+H10+E10+B10 -> 3598 | L10: =+I10+F10+C10 -> 1748 | M10: =+J10+G10+D10 -> 732
A11: március | B11: 437 | C11: 63 | D11: 22 | E11: 1467 | F11: 911 | G11: 172 | H11: 1301 | I11: 1140 | J11: 656 | K11: =+H11+E11+B11 -> 3205 | L11: =+I11+F11+C11 -> 2114 | M11: =+J11+G11+D11 -> 850
A12: április | B12: 304 | C12: 39 | D12: 14 | E12: 928 | F12: 566 | G12: 146 | H12: 1560 | I12: 742 | J12: 427 | K12: =+H12+E12+B12 -> 2792 | L12: =+I12+F12+C12 -> 1347 | M12: =+J12+G12+D12 -> 587
A13: május | B13: 388 | C13: 51 | D13: 19 | E13: 1277 | F13: 722 | G13: 199 | H13: 2082 | I13: 975 | J13: 558 | K13: =+H13+E13+B13 -> 3747 | L13: =+I13+F13+C13 -> 1748 | M13: =+J13+G13+D13 -> 776
A14: június | B14: 298 | C14: 39 | D14: 14 | E14: 915 | F14: 510 | G14: 138 | H14: 1490 | I14: 785 | J14: 427 | K14: =+H14+E14+B14 -> 2703 | L14: =+I14+F14+C14 -> 1334 | M14: =+J14+G14+D14 -> 579
A15: július | K15: =+H15+E15+B15 -> 0 | L15: =+I15+F15+C15 -> 0 | M15: =+J15+G15+D15 -> 0
A16: augusztus | K16: =+H16+E16+B16 -> 0 | L16: =+I16+F16+C16 -> 0 | M16: =+J16+G16+D16 -> 0
A17: szeptember | K17: =+H17+E17+B17 -> 0 | L17: =+I17+F17+C17 -> 0 | M17: =+J17+G17+D17 -> 0
A18: október | K18: =+H18+E18+B18 -> 0 | L18: =+I18+F18+C18 -> 0 | M18: =+J18+G18+D18 -> 0
A19: november | K19: =+H19+E19+B19 -> 0 | L19: =+I19+F19+C19 -> 0 | M19: =+J19+G19+D19 -> 0
A20: december | K20: =+H20+E20+B20 -> 0 | L20: =+I20+F20+C20 -> 0 | M20: =+J20+G20+D20 -> 0
A21: összesen: | B21: =SUM(B9:B20) -> 2180 | C21: =SUM(C9:C20) -> 288 | D21: =SUM(D9:D20) -> 107 | E21: =SUM(E9:E20) -> 7107 | F21: =SUM(F9:F20) -> 4255 | G21: =SUM(G9:G20) -> 963 | H21: =SUM(H9:H20) -> 10655 | I21: =SUM(I9:I20) -> 5538 | ... M21: =SUM(M9:M20) -> 4297
K22: 28354 | L22: 14081 | M22: 7904
A23: átlag adag(186nap): | B23: =B21/185 -> 11.783784 | C23: =C21/185 -> 1.5567568 | D23: =D21/185 -> 0.57837838 | E23: =E21/185 -> 38.416216 | F23: =F21/185 -> 23 | G23: =G21/185 -> 5.2054054 | H23: =H21/185+0.5 -> 58.094595 | I23: =I21/185 -> 29.935135 | J23: =J21/185 -> 17.443243 | K23: =+H23+E23+B23 -> 108.29459 | L23: =+I23+F23+C23 -> 54.491892 | M23: =+J23+G23+D23 -> 23.227027
B24: 12 | C24: 2 | D24: 1 | E24: 38 | F24: 23 | G24: 5 | H24: 58 | I24: 30 | J24: 17 | K24: =+H24+E24+B24 -> 108 | L24: =+I24+F24+C24 -> 55 | M24: =+J24+G24+D24 -> 23
K25: =SUM(K24:M24) -> 186
K26: =(K24*185*888) -> 17742240 | L26: =(L24*185*684) -> 6959700 | M26: =(M24*185*459) -> 1953045
K27: =SUM(K26:M26) -> 26654985

Sheet pénzforgalom
B1: MOGYORÓD NONPROFIT KFT
B6: Diétás étk. | D6: iskola | G6: rezsi iskola | H6: Nonprofit élelem beszerzés | I6: nyesanyag norma szerint felhasználható | J6: tényleges felhasználás
B7: diétás nysa. | C7: diét. rezsi | D7: Kedvezményes | E7: Nem kedvezményes | H7: összes étkező | I7: összes étkező | J7: összes étkező
A8: január | B8: 54208 | C8: 54784 | D8: 1295573 | E8: 3873743 | G8: 5402545 | H8: 4873887 | I8: 4258844.6 | J8: 4239149.9
A9: február | B9: 54208 | C9: 54784 | D9: 1185582 | E9: 3334722 | G9: 6264767 | H9: 3757327 | I9: 4030977.7 | J9: 3928140.5
A10: március | B10: 57596 | C10: 58208 | D10: 1404782 | E10: 4104446 | G10: 6264767 | H10: 4154020 | I10: 4686343.8 | J10: 4311112.2
A11: április | B11: 41838 | C11: 42891 | D11: 915276 | E11: 2532131 | G11: 6264767 | H11: 3003084.9 | I11: 3138918.6 | J11: 3003084.9
A12: május | B12: 42357 | C12: 44700 | D12: 1387922 | E12: 3151606 | G12: 6264767 | H12: 3061325 | I12: 4085684.8 | J12: 3793523.5
A13: június | B13: 50827 | C13: 53260 | D13: 950321 | E13: 3249229 | G13: 6264767 | H13: 3308079.8 | I13: 3281781 | J13: 3487806.6
A14: július
A15: augusztus
A16: szeptember
A17: október
A18: november
A19: december
A20: összesen bruttó: | B20: =SUM(B8:B19) -> 301034 | C20: =SUM(C8:C19) -> 308627 | D20: =SUM(D8:D19) -> 7139456 | E20: =SUM(E8:E19) -> 20245877 | F20: =SUM(F8:F19) -> 0 | G20: =SUM(G8:G19) -> 36726380 | H20: =SUM(H8:H19) -> 22157724 | I20: =SUM(I8:I19) -> 23482551 | J20: =SUM(J8:J19) -> 22762818
A21: összesen nettó | B21: =+B20/1.27 -> 237034.65 | C21: =+C20/1.27 -> 243013.39 | D21: =+D20/1.27 -> 5621618.9 | E21: =+E20/1.27 -> 15941635 | F21: =+F20/1.27 -> 0 | G21: =+G20/1.27 -> 28918409
A22: Nettó | B22: =+B21 -> 237034.65 | C22: =+C21 -> 243013.39 | D22: =+D20/1.27 -> 5621618.9 | E22: =+E20/1.27 -> 15941635 | F22: =+F20/1.27 -> 0 | G22: =+G20/1.27 -> 28918409 | H22: =+H20 -> 22157724 | I22: =+I20 -> 23482551 | J22: =+J20 -> 22762818
B23: =+B22+C22 -> 480048.03 | D23: =+D22+E22 -> 21563254
E31: Felnőtt adagszám | F31: kedvezményezett | G31: nem kedvezményezett
E32: összes adag | F32: adag | G32: adag
D33: január | E33: 604 | F33: =+E33-G33 -> 391 | G33: 213
D34: február | E34: 637 | F34: =+E34-G34 -> 458 | G34: 179
D35: március | E35: 644 | F35: =+E35-G35 -> 490 | G35: 154
D36: április | E36: 468 | F36: =+E36-G36 -> 348 | G36: 120
D37: május | E37: 472 | F37: =+E37-G37 -> 376 | G37: 96
D38: június | E38: 922 | F38: =+E38-G38 -> 821 | G38: 101
D39: július
D40: augusztus
D41: szeptember
D42: október
D43: november
D44: december
D45: összesen: | E45: =SUM(E33:E44) -> 3747 | F45: =SUM(F33:F44) -> 2884 | G45: =SUM(G33:G44) -> 863 | H45: összesen:
F46: =+F45*996 -> 2872464 | G46: =+G45*1926 -> 1662138 | H46: =SUM(F46:G46) -> 4534602
D47: 485 | E47: Nettó: | F47: =+F46/1.27 -> 2261782.7 | G47: =+G46/1.27 -> 1308770.1 | H47: =SUM(F47:G47) -> 3570552.8
D48: =+E45*485 -> 1817295 | H48: =+H47-D48 -> 1753257.8

Sheet Beszámoló összesítő
A1: Konyhai adagszámok és pénzforgalom – 2026. I. félév
A2: Beszámolói összesítő a kapott adagszám- és pénzforgalmi kimutatás alapján
A4: Gyermekétkeztetés | B4: Féléves mennyiség | C4: Mértékegység | D4: Felnőtt étkeztetés | E4: Féléves mennyiség | F4: Mértékegység
A5: Napi háromszori étkezés | B5: ='átlag adagsz.'!K21 -> 19942 | C5: étkezői nap | D5: Összes felnőtt adag | E5: =pénzforgalom!E45 -> 3747 | F5: adag
A6: Napi kétszeri étkezés | B6: ='átlag adagsz.'!L21 -> 10081 | C6: étkezői nap | D6: Kedvezményezett adag | E6: =pénzforgalom!F45 -> 2884 | F6: adag
A7: Napi egyszeri étkezés | B7: ='átlag adagsz.'!M21 -> 4297 | C7: étkezői nap | D7: Nem kedvezményezett adag | E7: =pénzforgalom!G45 -> 863 | F7: adag
A8: Súlyozott étkezési adag | B8: =B5*3+B6*2+B7 -> 84285 | C8: adag
A9: Gyermekétkeztetés – összes kategória | B9: =SUM(B5:B7) -> 34320 | C9: étkezői nap
A12: Pénzforgalmi adat | B12: Nettó összeg (Ft)
A13: Diétás étkeztetés bevétele | B13: =pénzforgalom!B23 -> 480048.03
A14: Iskolai étkezés bevétele | B14: =pénzforgalom!D23 -> 21563254
A15: Felnőtt étkezés bevétele | B15: =pénzforgalom!H47 -> 3570552.8
A16: Étkezési bevételek összesen | B16: =SUM(B13:B15) -> 25613855
A17: Iskolai rezsi | B17: =pénzforgalom!G22 -> 28918409
A18: Élelem-beszerzés | B18: =pénzforgalom!H22 -> 22157724
A19: Norma szerint felhasználható nyersanyag | B19: =pénzforgalom!I22 -> 23482551
A20: Tényleges nyersanyag-felhasználás | B20: =pénzforgalom!J22 -> 22762818
