Workbook

Sheet Összesített adatok
A1: Kategória | B1: Összes exportált tétel | C1: I. félévi tétel | D1: Nettó (Ft) | E1: ÁFA (Ft) | F1: Bruttó (Ft) | G1: Jún. 30-án nyitott/később rendezett tétel | H1: Nyitott/később rendezett bruttó (Ft)
A2: Bejövő számlák | B2: 636 | C2: 620 | D2: 86907360 | E2: 20876755 | F2: 1.0778412e+08 | G2: 15 | H2: 2832600
A3: Egyéb kimenő számlák | B3: 377 | C3: 355 | D3: 1.1356704e+08 | E3: 3506180.9 | F3: 1.1707322e+08 | G3: 26 | H3: 1073476.8
A4: Étkezési kimenő számlák | B4: 2311 | C4: 2310 | D4: 69833301 | E4: 18854990 | F4: 88688291 | G4: 113 | H4: 950056.63

Sheet Nyilvános összesítő
A1: MONON Kft. – 2026. I. félévi anonimizált számlaösszesítő
A2: Időszaki besorolás a teljesítés dátuma alapján: 2026. január 1.–június 30.
A4: Kategória | B4: Exportált tétel | C4: I. félévi tétel | D4: Nettó (Ft) | E4: ÁFA (Ft) | F4: Bruttó (Ft) | G4: Jún. 30-án nyitott/később rendezett | H4: Érintett bruttó (Ft)
A5: ='Összesített adatok'!A2 -> Bejövő számlák | B5: ='Összesített adatok'!B2 -> 636 | C5: ='Összesített adatok'!C2 -> 620 | D5: ='Összesített adatok'!D2 -> 86907360 | E5: ='Összesített adatok'!E2 -> 20876755 | F5: ='Összesített adatok'!F2 -> 1.0778412e+08 | G5: ='Összesített adatok'!G2 -> 15 | H5: ='Összesített adatok'!H2 -> 2832600
A6: ='Összesített adatok'!A3 -> Egyéb kimenő számlák | B6: ='Összesített adatok'!B3 -> 377 | C6: ='Összesített adatok'!C3 -> 355 | D6: ='Összesített adatok'!D3 -> 1.1356704e+08 | E6: ='Összesített adatok'!E3 -> 3506180.9 | F6: ='Összesített adatok'!F3 -> 1.1707322e+08 | G6: ='Összesített adatok'!G3 -> 26 | H6: ='Összesített adatok'!H3 -> 1073476.8
A7: ='Összesített adatok'!A4 -> Étkezési kimenő számlák | B7: ='Összesített adatok'!B4 -> 2311 | C7: ='Összesített adatok'!C4 -> 2310 | D7: ='Összesített adatok'!D4 -> 69833301 | E7: ='Összesített adatok'!E4 -> 18854990 | F7: ='Összesített adatok'!F4 -> 88688291 | G7: ='Összesített adatok'!G4 -> 113 | H7: ='Összesített adatok'!H4 -> 950056.63
A8: Kimenő számlák együtt | B8: =SUM(B6:B7) -> 2688 | C8: =SUM(C6:C7) -> 2665 | D8: =SUM(D6:D7) -> 1.8340034e+08 | E8: =SUM(E6:E7) -> 22361171 | F8: =SUM(F6:F7) -> 2.0576151e+08 | G8: =SUM(G6:G7) -> 139 | H8: =SUM(H6:H7) -> 2023533.5
A10: Adatvédelmi és számviteli megjegyzés
A11: Ez a melléklet kizárólag összesített adatokat tartalmaz, ezért nyilvános előterjesztéshez használható. A magánszemélyek és gyermekek neveit, bankszámlaszámokat, egyedi fizetési és tartozási adatokat tartalmazó részletes számlalisták nem képezik a nyilvános melléklet részét; azok bizalmas belső ellenőrzési dokumentumként állnak rendelkezésre. A későbbi kiegyenlítés nem módosítja a teljesítési időszak szerinti besorolást. A bruttó számlaösszegek nem egyeztethetők közvetlenül az eredménykimutatással a levonható áfa, beruházások, időbeli elhatárolások és könyvelési besorolások miatt.
A16: Korlátozás
A17: A jelen exportok nem tartalmazhatják azokat a 2026. június 30-ig teljesített bejövő számlákat, amelyek csak júliusban vagy augusztusban érkeztek meg. A teljes fordulónapi egyeztetéshez későbbi bejövőszámla-export, munkaszám/költséghely-hozzárendelés és főkönyvi egyeztetés szükséges.
