Workbook
Name A__EREDMÉNYKIMUTATÁS: #REF!
Name Adat1Pügy_: #REF!
Name AdatCéltartalékTábla: #REF!
Name AdatSajátTőkeTábla: #REF!
Name B__EREDMÉNYKIMUTATÁS: #REF!
Name Egyéb_bev_Tábla: #REF!
Name Egyéb_költs_Tábla: #REF!
Name Egyéb_köv_Tábla: #REF!
Name Egyéb_ráford_Tábla: #REF!
Name Egyéb_Rövlej_Tábla: #REF!
Name Eredmény_és_jövedelem: #REF!
Name Költségszerkezet: #REF!
Name MÉRLEG_Eszközök__aktívák: #REF!
Name MÉRLEG_Források__passzívák: #REF!
Name NémetEredmA: #REF!
Name NémetEredmB: #REF!
Name NémetEszköz: #REF!
Name NémetForrás: #REF!
Name PénzeszközTábla: #REF!
Name Pénzügyi_helyz____A: #REF!
Name Pénzügyi_helyz____B: #REF!
Name Tárgyi_Eszköz_Állomány: #REF!
Name Vagyoni_helyzet: #REF!

Sheet Adatok
A2: Ügyfél neve | B2: MOGYORÓD NONPROFIT KFT | D2: 1 | E2: 2 | F2: 4 | G2: 7 | H2: 2 | I2: 7 | J2: 0 | K2: 1 | L2: 5 | M2: 1 | N2: 7 | O2: 0 | P2: 1 | Q2: 1 | R2: 3 | S2: 1 | T2: 3
D3: Statisztikai számjel
A4: Mérlegkészítés helye | B4: Gödöllő
A6: Mérlegzárás éve | B6: 2025. | D6: 1 | E6: 3 | F6: - | G6: 0 | H6: 9 | I6: - | J6: 0 | K6: 8 | L6: 4 | M6: 9 | N6: 6 | O6: 4
D7: Cégjegyzék szám

Sheet Merleg_m
A2: 2 | B2: 3 | C2: 1 | D2: 5 | E2: 7 | F2: 5 | G2: 7 | H2: 4 | I2: 4 | J2: 7 | K2: 7 | L2: 8 | M2: 5 | N2: 7 | O2: 2 | P2: 1 | Q2: 3 | T2: =Adatok!W2 -> 0
A4: Statisztikai számjel
A6: 1 | B6: 3 | C6: - | D6: 0 | E6: 9 | F6: - | G6: 1 | H6: 4 | I6: 4 | J6: 6 | K6: 2 | L6: 5
A8: Cégjegyzék szám
A12: Mogyoród Településüzemeltető Nonprofit Kft. 2026.I. félévi beszámoló
M13: 2026.01.01-2026.06.30
A15: MÉRLEG Eszközök (aktívák)
X17: adatok ezer Ft-ban
B18: A tétel megnevezése | U18: Előző év | V18: Előző év(ek) módosításai | W18: Előző évek módosításai | X18: Tárgyév
A19: 01. | B19: A. Befektetett eszközök (02.+03.+04. sor) | U19: =+U20+U21+U22 -> 437234 | V19: =V20+V21+V22 -> #REF! | X19: =+X20+X21+X22 -> 415453
A20: 02. | B20: I. IMMATERIÁLIS JAVAK | U20: 0 | V20: =#REF!+#REF!+#REF!+#REF!+#REF!+#REF! -> #REF! | X20: 0
A21: 03. | B21: II. TÁRGYI ESZKÖZÖK | U21: 437234 | V21: =SUM(#REF!) -> #REF! | W21: 0 | X21: 415453
A22: 04. | B22: III. BEFEKTETETT PÉNZÜGYI ESZKÖZÖK | V22: =SUM(#REF!) -> #REF!
A23: 05. | B23: B. Forgóeszközök (06.+07.+08.+09. sor) | U23: =+U24+U25+U26+U27 -> 89617 | V23: =+V24+V25+V26+V27 -> #REF! | W23: =+W24+W25+W26+W27 -> 0 | X23: =+X24+X25+X26+X27 -> 34259
A24: 06. | B24: I. KÉSZLETEK | U24: 1962 | V24: =SUM(#REF!) -> #REF! | X24: 2231
A25: 07. | B25: II. KÖVETELÉSEK | U25: =6937+25+1465+82+3+24+100 -> 8636 | V25: =SUM(#REF!) -> #REF! | X25: =2139+23+30+508+1 -> 2701
A26: 08. | B26: III. ÉRTÉKPAPÍROK | V26: =SUM(#REF!) -> #REF!
A27: 09. | B27: IV. PÉNZESZKÖZÖK | U27: 79019 | V27: =SUM(#REF!) -> #REF! | X27: 29327
A28: 10. | B28: C. Aktív időbeli elhatárolások | U28: 28888 | X28: 98990
A29: 11. | B29: ESZKÖZÖK (AKTÍVÁK) ÖSSZESEN (01.+05.+10. sor) | U29: =+U19+U23+U28 -> 555739 | V29: =+V19+V23+V28 -> #REF! | X29: =+X19+X23+X28 -> 548702
A33: MÉRLEG Források (passzívák)
X35: adatok ezer Ft-ban
B36: A tétel megnevezése | U36: Előző év | V36: Előző év(ek) módosításai | W36: Előző évek módosításai | X36: Tárgyév
A37: 12. | B37: D. Saját tőke (13.+15.+16.+17.+18.+19.+ 20 sor) | U37: =SUM(U38:U45) -> 51210 | V37: =SUM(V38:V45) -> 0 | W37: =SUM(W38:W45) -> 0 | X37: =SUM(X38:X45) -> 71521
A38: 13. | B38: I. JEGYZETT TŐKE | U38: 3000 | X38: 3000
A39: 15. | B39: 53 sorból: a) visszavásárolt tulajdonosi részesedés névértéken
A40: 16. | B40: II. JEGYZETT, DE MÉG BE NEM FIZETETT TŐKE (-)
A41: 17. | B41: III.TŐKETARTALÉK
A42: 18. | B42: IV. EREDMÉNYTARTALÉK | U42: 22416 | W42: 0 | X42: 48209
A43: 19. | B43: V. LEKÖTÖTT TARTALÉK
A44: 20. | B44: VI. ÉRTÉKELÉSI TARTALÉK
A45: 21. | B45: VII. | D45: ADÓZOTT EREDMÉNY | U45: 25794 | X45: 20312
B46: E. Céltartalékok | U46: 0 | X46: 0
A47: 22. | B47: F. Kötelezettségek (23.+24.+25 sor) | U47: =+U48+U49+U50 -> 475570 | V47: =+V48+V49+V50 -> #REF! | W47: =+W48+W49+W50 -> 0 | X47: =+X48+X49+X50 -> 450680
A48: 23. | B48: I. HÁTRASOROLT KÖTELEZETTSÉGEK
A49: 24. | B49: II. HOSSZÚ LEJÁRATÚ KÖTELEZETTSÉGEK | U49: 158987 | V49: =SUM(#REF!) -> #REF! | X49: 158987
A50: 25. | B50: II. RÖVID LEJÁRATÚ KÖTELEZETTSÉGEK | U50: =18+7924+1665+917+84+1663+57+1236+2617+394+300000+37-29 -> 316583 | V50: =SUM(#REF!) -> #REF! | X50: =2592+289090+6+3+2 -> 291693
A51: 26. | B51: G. Passzív időbeli elhatárolások | U51: 28959 | X51: 26501
A52: 27. | B52: FORRÁSOK (PASSZÍVÁK) ÖSSZESEN (12.+21.+22.+26. sor) | U52: =+U37+U47+U51+U46 -> 555739 | V52: =+V37+V47+V51 -> #REF! | W52: =+W37+W47+W51 -> 0 | X52: =+X37+X47+X51+X46 -> 548702
X53: =+X29-X52 -> 0
...

Sheet Merleg_n
A2: =Adatok!D2 -> 1 | B2: =Adatok!E2 -> 2 | C2: =Adatok!F2 -> 4 | D2: =Adatok!G2 -> 7 | E2: =Adatok!H2 -> 2 | F2: =Adatok!I2 -> 7 | G2: =Adatok!J2 -> 0 | H2: =Adatok!K2 -> 1 | ... Q2: =Adatok!T2 -> 3
A4: Statistisches Zeichen
A6: =Adatok!D6 -> 1 | B6: =Adatok!E6 -> 3 | C6: =Adatok!F6 -> - | D6: =Adatok!G6 -> 0 | E6: =Adatok!H6 -> 9 | F6: =Adatok!I6 -> - | G6: =Adatok!J6 -> 0 | H6: =Adatok!K6 -> 8 | ... L6: =Adatok!O6 -> 4
A8: Nummer der Firmeneintragung
A11: =CONCATENATE(Adatok!B2," Bilanz ",Adatok!B6) -> MOGYORÓD NONPROFIT KFT Bilanz 2025.
A14: BILANZ (Aktiva)
W16: Daten in 1000 Ft
B17: Bezeichnung | U17: Vorjahr | V17: Selbstan. | W17: Bezugsjahr
A18: 01. | B18: A. Anlagevermögen (02.+09.+16.) | U18: =Merleg_m!U19 -> 437234 | V18: =Merleg_m!V19 -> #REF! | W18: =Merleg_m!X19 -> 415453
A19: 02. | B19: I. IMMATERIELLE GÜTER (03.-08. sorok) | U19: =Merleg_m!U20 -> 0 | V19: =Merleg_m!V20 -> #REF! | W19: =Merleg_m!X20 -> 0
A20: 03. | B20: 1.Rechte mit Vermögenswert | U20: =#REF! -> #REF! | V20: =#REF! -> #REF! | W20: =#REF! -> #REF!
A21: 04. | B21: 2.Goodwill oder Firmenwert | U21: =#REF! -> #REF! | V21: =#REF! -> #REF! | W21: =#REF! -> #REF!
A22: 05. | B22: 3.Geistige Produkte | U22: =#REF! -> #REF! | V22: =#REF! -> #REF! | W22: =#REF! -> #REF!
A23: 06. | B23: 4.Aktivierte Versuchsentwicklung | U23: =#REF! -> #REF! | V23: =#REF! -> #REF! | W23: =#REF! -> #REF!
A24: 07. | B24: 5.Aktivierte Gründung o. Umstellung | U24: =#REF! -> #REF! | V24: =#REF! -> #REF! | W24: =#REF! -> #REF!
A25: 08. | B25: 6.Wertberichtigung der immateriellen Vermögensgegenstände | U25: =#REF! -> #REF! | V25: =#REF! -> #REF! | W25: =#REF! -> #REF!
A26: 09. | B26: II.SACHANLAGEN (10.-15.) | U26: =Merleg_m!U21 -> 437234 | V26: =Merleg_m!V21 -> #REF! | W26: =Merleg_m!X21 -> 415453
A27: 10. | B27: 1.Immobilien | U27: =#REF! -> #REF! | V27: =#REF! -> #REF! | W27: =#REF! -> #REF!
A28: 11. | B28: 2.Produktionsmaschinen, Fahrzeuge | U28: =#REF! -> #REF! | V28: =#REF! -> #REF! | W28: =#REF! -> #REF!
A29: 12. | B29: 3.Sonstige Einrichtungen, Fahrzeuge | U29: =#REF! -> #REF! | V29: =#REF! -> #REF! | W29: =#REF! -> #REF!
A30: 13. | B30: 4.Investitionen | U30: =#REF! -> #REF! | V30: =#REF! -> #REF! | W30: =#REF! -> #REF!
A31: 14. | B31: 5.Anzahlungen für Investitionen | U31: =#REF! -> #REF! | V31: =#REF! -> #REF! | W31: =#REF! -> #REF!
A32: 15. | B32: 6.Wertberichtigung der Sachanlangen | U32: =#REF! -> #REF! | V32: =#REF! -> #REF! | W32: =#REF! -> #REF!
A33: 16. | B33: III. FINANZANLAGEN (17.-21.) | U33: =Merleg_m!U22 -> 0 | V33: =Merleg_m!V22 -> #REF! | W33: =Merleg_m!X22 -> 0
A34: 17. | B34: 1. Beteiligungen | U34: =#REF! -> #REF! | V34: =#REF! -> #REF! | W34: =#REF! -> #REF!
A35: 18. | B35: 2.Wertpapiere | U35: =#REF! -> #REF! | V35: =#REF! -> #REF! | W35: =#REF! -> #REF!
A36: 19. | B36: 3.Gewährte Kredite | U36: =#REF! -> #REF! | V36: =#REF! -> #REF! | W36: =#REF! -> #REF!
A37: 20. | B37: 4.Langfristige Bankeinlagen | U37: =#REF! -> #REF! | V37: =#REF! -> #REF! | W37: =#REF! -> #REF!
A38: 21. | B38: 5.Wertberichtigung der Finanzanlagen | U38: =#REF! -> #REF! | V38: =#REF! -> #REF! | W38: =#REF! -> #REF!
A39: 22. | B39: B . Umlaufvermögen (23.+30.+35.+39.) | U39: =Merleg_m!U23 -> 89617 | V39: =Merleg_m!V23 -> #REF! | W39: =Merleg_m!X23 -> 34259
A40: 23. | B40: I. VORRÄTE ( 24.-29.) | U40: =Merleg_m!U24 -> 1962 | V40: =Merleg_m!V24 -> #REF! | W40: =Merleg_m!X24 -> 2231
A41: 24. | B41: 1.Stoffe | U41: =#REF! -> #REF! | V41: =#REF! -> #REF! | W41: =#REF! -> #REF!
A42: 25. | B42: 2.Handelswaren | U42: =#REF! -> #REF! | V42: =#REF! -> #REF! | W42: =#REF! -> #REF!
A43: 26. | B43: 3.Anzahlungen auf Vorräte | U43: =#REF! -> #REF! | V43: =#REF! -> #REF! | W43: =#REF! -> #REF!
A44: 27. | B44: 4.Tiere | U44: =#REF! -> #REF! | V44: =#REF! -> #REF! | W44: =#REF! -> #REF!
A45: 28. | B45: 5.Unfertige und Halbfertige Produkte | U45: =#REF! -> #REF! | V45: =#REF! -> #REF! | W45: =#REF! -> #REF!
A46: 29. | B46: 6.Fertige Produkte | U46: =#REF! -> #REF! | V46: =#REF! -> #REF! | W46: =#REF! -> #REF!
A47: 30. | B47: II. FORDERUNGEN (31.-34.) | U47: =Merleg_m!U25 -> 8636 | V47: =Merleg_m!V25 -> #REF! | W47: =Merleg_m!X25 -> 2701
A48: 31. | B48: 1.Forderungen aus Lief. und Leistungen | U48: =#REF! -> #REF! | V48: =#REF! -> #REF! | W48: =#REF! -> #REF!
A49: 32. | B49: 2.Wechselforderungen | U49: =#REF! -> #REF! | V49: =#REF! -> #REF! | W49: =#REF! -> #REF!
...

Sheet Merleg_a
A2: =Adatok!D2 -> 1 | B2: =Adatok!E2 -> 2 | C2: =Adatok!F2 -> 4 | D2: =Adatok!G2 -> 7 | E2: =Adatok!H2 -> 2 | F2: =Adatok!I2 -> 7 | G2: =Adatok!J2 -> 0 | H2: =Adatok!K2 -> 1 | ... Q2: =Adatok!T2 -> 3
A4: Statistical Code
A6: =Adatok!D6 -> 1 | B6: =Adatok!E6 -> 3 | C6: =Adatok!F6 -> - | D6: =Adatok!G6 -> 0 | E6: =Adatok!H6 -> 9 | F6: =Adatok!I6 -> - | G6: =Adatok!J6 -> 0 | H6: =Adatok!K6 -> 8 | ... L6: =Adatok!O6 -> 4
A8: Registration Number
A11: =CONCATENATE("The ",Adatok!B6," Financial Statement of ",Adatok!B2) -> The 2025. Financial Statement of MOGYORÓD NONPROFIT KFT
A14: Assets
W16: thousand Ft
B17: Item | U17: Previous Year | V17: Self-revision | W17: Target Year
A18: 01. | B18: A. Fixed assets (02.+09.+16.) | U18: =Merleg_m!U19 -> 437234 | V18: =Merleg_m!V19 -> #REF! | W18: =Merleg_m!X19 -> 415453
A19: 02. | B19: I. INTANGIBLE ASSETS (03.-08.) | U19: =Merleg_m!U20 -> 0 | V19: =Merleg_m!V20 -> #REF! | W19: =Merleg_m!X20 -> 0
A20: 03. | B20: 1.Rights representing money or monies worth | U20: =#REF! -> #REF! | V20: =#REF! -> #REF! | W20: =#REF! -> #REF!
A21: 04. | B21: 2.Goodwill | U21: =#REF! -> #REF! | V21: =#REF! -> #REF! | W21: =#REF! -> #REF!
A22: 05. | B22: 3.Intellectual property | U22: =#REF! -> #REF! | V22: =#REF! -> #REF! | W22: =#REF! -> #REF!
A23: 06. | B23: 4.Capitalized value of research and development | U23: =#REF! -> #REF! | V23: =#REF! -> #REF! | W23: =#REF! -> #REF!
A24: 07. | B24: 5.Capitalized value of original contribution/restructuring | U24: =#REF! -> #REF! | V24: =#REF! -> #REF! | W24: =#REF! -> #REF!
A25: 08. | B25: 6.Value adjustment of intangible assets | U25: =#REF! -> #REF! | V25: =#REF! -> #REF! | W25: =#REF! -> #REF!
A26: 09. | B26: II. TANGIBLE ASSETS (10.-15. ) | U26: =Merleg_m!U21 -> 437234 | V26: =Merleg_m!V21 -> #REF! | W26: =Merleg_m!X21 -> 415453
A27: 10. | B27: 1.Real property | U27: =#REF! -> #REF! | V27: =#REF! -> #REF! | W27: =#REF! -> #REF!
A28: 11. | B28: 2.Technical equipment, machinery, vehicles | U28: =#REF! -> #REF! | V28: =#REF! -> #REF! | W28: =#REF! -> #REF!
A29: 12. | B29: 3.Other equipment and fittings | U29: =#REF! -> #REF! | V29: =#REF! -> #REF! | W29: =#REF! -> #REF!
A30: 13. | B30: 4.Investments | U30: =#REF! -> #REF! | V30: =#REF! -> #REF! | W30: =#REF! -> #REF!
A31: 14. | B31: 5.Advance payments made towards investments | U31: =#REF! -> #REF! | V31: =#REF! -> #REF! | W31: =#REF! -> #REF!
A32: 15. | B32: 6.Value adjustment of tangible assets | U32: =#REF! -> #REF! | V32: =#REF! -> #REF! | W32: =#REF! -> #REF!
A33: 16. | B33: III. FINANCIAL INVESTMENTS (17.-21.) | U33: =Merleg_m!U22 -> 0 | V33: =Merleg_m!V22 -> #REF! | W33: =Merleg_m!X22 -> 0
A34: 17. | B34: 1.Shares | U34: =#REF! -> #REF! | V34: =#REF! -> #REF! | W34: =#REF! -> #REF!
A35: 18. | B35: 2.Securities | U35: =#REF! -> #REF! | V35: =#REF! -> #REF! | W35: =#REF! -> #REF!
A36: 19. | B36: 3.Loans | U36: =#REF! -> #REF! | V36: =#REF! -> #REF! | W36: =#REF! -> #REF!
A37: 20. | B37: 4.Long term bank deposits | U37: =#REF! -> #REF! | V37: =#REF! -> #REF! | W37: =#REF! -> #REF!
A38: 21. | B38: 5.Value adjustment of financial investments | U38: =#REF! -> #REF! | V38: =#REF! -> #REF! | W38: =#REF! -> #REF!
A39: 22. | B39: B. Current assets (23.+30.+35.+39.) | U39: =Merleg_m!U23 -> 89617 | V39: =Merleg_m!V23 -> #REF! | W39: =Merleg_m!X23 -> 34259
A40: 23. | B40: I. INVENTORIES (24.-29.) | U40: =Merleg_m!U24 -> 1962 | V40: =Merleg_m!V24 -> #REF! | W40: =Merleg_m!X24 -> 2231
A41: 24. | B41: 1.Raw materials | U41: =#REF! -> #REF! | V41: =#REF! -> #REF! | W41: =#REF! -> #REF!
A42: 25. | B42: 2.Goods | U42: =#REF! -> #REF! | V42: =#REF! -> #REF! | W42: =#REF! -> #REF!
A43: 26. | B43: 3.Advence payments made towards inventories | U43: =#REF! -> #REF! | V43: =#REF! -> #REF! | W43: =#REF! -> #REF!
A44: 27. | B44: 4.Livestock | U44: =#REF! -> #REF! | V44: =#REF! -> #REF! | W44: =#REF! -> #REF!
A45: 28. | B45: 5.Work in progress | U45: =#REF! -> #REF! | V45: =#REF! -> #REF! | W45: =#REF! -> #REF!
A46: 29. | B46: 6.Finished products | U46: =#REF! -> #REF! | V46: =#REF! -> #REF! | W46: =#REF! -> #REF!
A47: 30. | B47: II. RECEIVABLES (31.-34.) | U47: =Merleg_m!U25 -> 8636 | V47: =Merleg_m!V25 -> #REF! | W47: =Merleg_m!X25 -> 2701
A48: 31. | B48: 1.Accounts Receivable from supply of goods and services (purchasers) | U48: =#REF! -> #REF! | V48: =#REF! -> #REF! | W48: =#REF! -> #REF!
A49: 32. | B49: 2.Draft receivables | U49: =#REF! -> #REF! | V49: =#REF! -> #REF! | W49: =#REF! -> #REF!
...

Sheet Mutato_m
A4: =Adatok!B2 -> MOGYORÓD NONPROFIT KFT
A6: A VAGYONI HELYZET ÉS A TŐKESZERKEZET MUTATÓI
A8: =CONCATENATE(Adatok!B6,". év") -> 2025.. év
A11: MUTATÓ MEGNEVEZÉS | C11: MUTATÓ SZÁMÍTÁSA | F11: MÉRLEG HIVATKOZÁS | H11: ELŐZŐ ÉV | I11: TÁRGY ÉV
A13: Befektetett eszközök | C13: Saját tőke | F13: D | H13: =IF(Merleg_m!U19=0,"",Merleg_m!U37/Merleg_m!U19) -> 0.11712264 | I13: =IF(Merleg_m!X19=0,"",Merleg_m!X37/Merleg_m!X19) -> 0.17215184
A14: fedezettsége | C14: Befektetett eszközök | F14: A
A16: Tárgyi eszközök fedezettsége | C16: Saját tőke | F16: D | H16: =IF(Merleg_m!U21=0,"",Merleg_m!U37/Merleg_m!U21) -> 0.11712264 | I16: =IF(Merleg_m!X21=0,"",Merleg_m!X37/Merleg_m!X21) -> 0.17215184
C17: Tárgyi eszközök | F17: AII
A19: Befektetett eszközök aránya | C19: Befektetett eszköz | F19: A | H19: =IF(Merleg_m!U19+Merleg_m!U23+Merleg_m!U28=0,"",Merleg_m!U19/(Merleg_m!U19+Merleg_m!U23+Merleg_m!U28)) -> 0.78676141 | I19: =IF(Merleg_m!X19+Merleg_m!X23+Merleg_m!X28=0,"",Merleg_m!X19/(Merleg_m!X19+Merleg_m!X23+Merleg_m!X28)) -> 0.75715598
C20: Összes eszköz | F20: A+B+C
A22: Saját tőke aránya I. | C22: Saját tőke | F22: D | H22: =+Merleg_m!U37/Merleg_m!U52 -> 0.092147573 | I22: =+Merleg_m!X37/Merleg_m!X52 -> 0.1303458
C23: Összes forrás | F23: D+E+F+G
A25: Tőkeszerkeszeti mutató I. | C25: Kötelezettségek | F25: F | H25: =IF(Merleg_m!U37=0,"",Merleg_m!U47/Merleg_m!U37) -> 9.2866628 | I25: =IF(Merleg_m!X37=0,"",Merleg_m!X47/Merleg_m!X37) -> 6.301366
C26: Saját tőke | F26: D
A28: Tőkeszerkezeti mutató II. | C28: Rövid lejáratú köt. | F28: FII | H28: =IF(Merleg_m!U37=0,"",Merleg_m!U50/Merleg_m!U37) -> 6.1820543 | I28: =IF(Merleg_m!X37=0,"",Merleg_m!X50/Merleg_m!X37) -> 4.0784245
C29: Saját tőke | F29: D
A36: =Adatok!B2 -> MOGYORÓD NONPROFIT KFT
A38: A PÉNZÜGYI HELYZET RÖVIDTÁVÚ MUTATÓI
A40: =CONCATENATE(Adatok!B6,". év") -> 2025.. év
A42: MUTATÓ MEGNEVEZÉS | C42: MUTATÓ SZÁMÍTÁSA | F42: MÉRLEG HIVATKOZÁS | H42: ELŐZŐ ÉV | I42: TÁRGY ÉV
A44: Likviditási mutató | C44: Forgóeszközök | F44: B | H44: =IF(Merleg_m!U47=0,"",Merleg_m!U23/Merleg_m!U47) -> 0.18844124 | I44: =IF(Merleg_m!X47=0,"",Merleg_m!X23/Merleg_m!X47) -> 0.076016242
C45: Kötelezettségek | F45: F
A47: Rövid távú likviditás I. | C47: Forgóeszközök | F47: B | H47: =IF(Merleg_m!U50=0,"",Merleg_m!U23/Merleg_m!U50) -> 0.28307584 | I47: =IF(Merleg_m!X50=0,"",Merleg_m!X23/Merleg_m!X50) -> 0.11744882
C48: Rövid lejáratú köt. | F48: FII
A50: Rövid távú likviditás II. | C50: Forgóeszk-követ. | F50: B-BII. | H50: =IF(Merleg_m!U50=0,"",(Merleg_m!U23-Merleg_m!U25)/Merleg_m!U50) -> 0.25579706 | I50: =IF(Merleg_m!X50=0,"",(Merleg_m!X23-Merleg_m!X25)/Merleg_m!X50) -> 0.10818909
C51: Rövid lejáratú köt. | F51: FII.
A53: Rövid távú likviditás III. | C53: Pénzeszközök + ért.pap. | F53: BIV.+BIII. | H53: =IF(Merleg_m!U50=0,"",(Merleg_m!U27+Merleg_m!U26)/Merleg_m!U50) -> 0.24959963 | I53: =IF(Merleg_m!X50=0,"",(Merleg_m!X27+Merleg_m!X26)/Merleg_m!X50) -> 0.10054064
C54: Rövid lejáratú köt. | F54: FII.
A56: Kintlevőségek átlagos | C56: Átlagos vevőáll. | F56: (BII.1.c+BII.1.d)*(365/2/)
A57: időtartama, nap | C57: Árbevétel | F57: Er. I.
A59: Szállítói kötelezettségek | C59: Átlagos száll.áll. | F59: (FII.2.c+FII.2.d)*(365/2/)
A60: átlagos időtartama, nap | C60: Anyagjellegű ráford. | F60: Er. IV.
A62: Vevők és szállítók aránya | C62: Vevők | F62: B II. 1.
C63: Szállítók | F63: F II. 2.
A65: A készletek fordulatszáma | C65: Nettó árbevétel | F65: B. I.c.+B.I.d. | H65: =IF((Merleg_m!U24+Adatok!M15)/2=0,"",Merleg_m!U83/((Merleg_m!U24+Adatok!M15)/2)) -> 204.07543 | I65: =IF((Merleg_m!X24+Merleg_m!U24)/2=0,"",Merleg_m!X83/((Merleg_m!X24+Merleg_m!U24)/2)) -> 50.923921
C66: Átlagos készletek | F66: 2
A74: =Adatok!B2 -> MOGYORÓD NONPROFIT KFT
A76: AZ EREDMÉNY ÉS A JÖVEDELMEZŐSÉG ALAKULÁSA
A78: =CONCATENATE(Adatok!B6,". év") -> 2025.. év
I80: adatok eFt-ban
...

Sheet Mutato_n
A4: =Adatok!B2 -> MOGYORÓD NONPROFIT KFT
A6: KENNZAHLEN DER VERMÖGENSLAGE UND DER KAPITALSTRUKTUR
A8: =Adatok!B6 -> 2025.
I10: Daten in 1000 Ft
A11: BEZEICHNUNG | C11: BERECHNUNG | F11: BILANZ POSTEN | H11: VORJAHR | I11: BEZUGSJAHR
A13: Deckung | C13: Eigenkapital | F13: D | H13: =IF(Merleg_m!U19=0,"",Merleg_m!U37/Merleg_m!U19) -> 0.11712264 | I13: =IF(Merleg_m!X19=0,"",Merleg_m!X37/Merleg_m!X19) -> 0.17215184
A14: des Anlagevermögens | C14: Anlagevermögen | F14: A | H14: =IF(#REF!=0,"",#REF!/#REF!) -> #REF! | I14: =IF(#REF!=0,"",#REF!/#REF!) -> #REF!
A16: Deckung der Sachanlagen | C16: Eigenkapital | F16: D | H16: =IF(Merleg_m!U21=0,"",Merleg_m!U37/Merleg_m!U21) -> 0.11712264 | I16: =IF(Merleg_m!X21=0,"",Merleg_m!X37/Merleg_m!X21) -> 0.17215184
C17: Sachanlagen | F17: AII | H17: =IF(#REF!=0,"",#REF!/#REF!) -> #REF! | I17: =IF(#REF!=0,"",#REF!/#REF!) -> #REF!
A19: Anteil der Sachanlagen | C19: Anlagevermögen | F19: A | H19: =IF(Merleg_m!U19+Merleg_m!U23+Merleg_m!U28=0,"",Merleg_m!U19/(Merleg_m!U19+Merleg_m!U23+Merleg_m!U28)) -> 0.78676141 | I19: =IF(Merleg_m!X19+Merleg_m!X23+Merleg_m!X28=0,"",Merleg_m!X19/(Merleg_m!X19+Merleg_m!X23+Merleg_m!X28)) -> 0.75715598
C20: Aktiva | F20: A+B+C | H20: =IF((#REF!+#REF!+#REF!)=0,"",#REF!/(#REF!+#REF!+#REF!)) -> #REF! | I20: =IF((#REF!+#REF!+#REF!)=0,"",#REF!/(#REF!+#REF!+#REF!)) -> #REF!
A22: Anteil des Eigenkapitals | C22: Eigenkapital | F22: D | H22: =IF(Merleg_m!U37+Merleg_m!U45+Merleg_m!U47+Merleg_m!U51=0,"",Merleg_m!U37/(Merleg_m!U37+Merleg_m!U45+Merleg_m!U47+Merleg_m!U51)) -> 0.088060351 | I22: =IF(Merleg_m!X37+Merleg_m!X45+Merleg_m!X47+Merleg_m!X51=0,"",Merleg_m!X37/(Merleg_m!X37+Merleg_m!X45+Merleg_m!X47+Merleg_m!X51)) -> 0.12569287
C23: Passiva | F23: D+E+F+G | H23: =IF((#REF!+#REF!+#REF!+#REF!)=0,"",#REF!/(#REF!+#REF!+#REF!+#REF!)) -> #REF! | I23: =IF((#REF!+#REF!+#REF!+#REF!)=0,"",#REF!/(#REF!+#REF!+#REF!+#REF!)) -> #REF!
A25: Kapitalstruktur I. | C25: Verbindlichkeiten | F25: F | H25: =IF(Merleg_m!U37=0,"",Merleg_m!U47/Merleg_m!U37) -> 9.2866628 | I25: =IF(Merleg_m!X37=0,"",Merleg_m!X47/Merleg_m!X37) -> 6.301366
C26: Eigenkapital | F26: D | H26: =IF(#REF!=0,"",#REF!/#REF!) -> #REF! | I26: =IF(#REF!=0,"",#REF!/#REF!) -> #REF!
A28: Kapitalstruktur II. | C28: Kurzfr. Verbind. | F28: FII | H28: =IF(Merleg_m!U37=0,"",Merleg_m!U50/Merleg_m!U37) -> 6.1820543 | I28: =IF(Merleg_m!X37=0,"",Merleg_m!X50/Merleg_m!X37) -> 4.0784245
C29: Eigenkapital | F29: D | H29: =IF(#REF!=0,"",#REF!/#REF!) -> #REF! | I29: =IF(#REF!=0,"",#REF!/#REF!) -> #REF!
A36: =Adatok!B2 -> MOGYORÓD NONPROFIT KFT
A38: KENNZAHLEN DER FINANZLAGE
A40: =Adatok!B6 -> 2025.
I41: Daten in 1000 Ft
A42: BEZEICHNUNG | C42: BERECHNUNG | F42: BILANZ POSTEN | H42: VORJAHR | I42: BEZUGSJAHR
A44: Liquidität I. | C44: Umlaufvermögen | F44: B | H44: =IF(Merleg_m!U47=0,"",Merleg_m!U23/Merleg_m!U47) -> 0.18844124 | I44: =IF(Merleg_m!X47=0,"",Merleg_m!X23/Merleg_m!X47) -> 0.076016242
C45: Verbindlichkeiten | F45: F
A47: Liquidität II. | C47: Umlaufvermögen | F47: B | H47: =IF(Merleg_m!U50=0,"",Merleg_m!U23/Merleg_m!U50) -> 0.28307584 | I47: =IF(Merleg_m!X50=0,"",Merleg_m!X23/Merleg_m!X50) -> 0.11744882
C48: Kurzfr. Verbindlichk. | F48: FII
A50: Liquidität III. | C50: Umlaufverm.-Ford. | F50: B-BII. | H50: =IF(Merleg_m!U50=0,"",(Merleg_m!U23-Merleg_m!U25)/Merleg_m!U50) -> 0.25579706 | I50: =IF(Merleg_m!X50=0,"",(Merleg_m!X23-Merleg_m!X25)/Merleg_m!X50) -> 0.10818909
C51: Kurzfr. Verbindlichk. | F51: FII.
A53: Liquidität IV. | C53: Geldmittel + Wertpap. | F53: BIV.+BIII. | H53: =IF(Merleg_m!U50=0,"",(Merleg_m!U27+Merleg_m!U26)/Merleg_m!U50) -> 0.24959963 | I53: =IF(Merleg_m!X50=0,"",(Merleg_m!X27+Merleg_m!X26)/Merleg_m!X50) -> 0.10054064
C54: Kurzfr. Verbindlichk. | F54: FII.
A56: Zeitdauer d. Ausstände, Tag | C56: Durchschn. Forderungen | F56: (BII.1.c+BII.1.d)*(365/2/) | H56: =IF(Merleg_m!U83=0,"",(#REF!+Adatok!M11)*365/2/Merleg_m!U83) -> #REF! | I56: =IF(Merleg_m!X83=0,"",(#REF!+#REF!)*365/2/Merleg_m!X83) -> #REF!
C57: Erlös | F57: Er. I.
A59: Zeitdauer d. | C59: Durchschn. Lief. Bestand. | F59: (FII.2.c+FII.2.d)*(365/2/) | H59: =IF(#REF!=0,"",(#REF!+Adatok!M13)*365/2/#REF!) -> #REF! | I59: =IF(#REF!=0,"",(#REF!+#REF!)*365/2/#REF!) -> #REF!
A60: Verbindlichkeiten, Tag | C60: Materialaufwend | F60: Er. IV.
A62: Verhältnis von Ford. | C62: Forderungen | F62: B II. 1. | H62: =IF(#REF!=0,"",#REF!/#REF!) -> #REF! | I62: =IF(#REF!=0,"",#REF!/#REF!) -> #REF!
A63: und Verbindlichkeiten | C63: Verbindlichkeiten | F63: F II. 2.
A65: Umdrehung der Vorräte | C65: Umsatzerlöse | F65: B. I.c.+B.I.d. | H65: =IF((Merleg_m!U24+Adatok!M15)/2=0,"",Merleg_m!U83/((Merleg_m!U24+Adatok!M15)/2)) -> 204.07543 | I65: =IF((Merleg_m!X24+Merleg_m!U24)/2=0,"",Merleg_m!X83/((Merleg_m!X24+Merleg_m!U24)/2)) -> 50.923921
C66: Durchschn. Bestände | F66: 2
A74: =Adatok!B2 -> MOGYORÓD NONPROFIT KFT
A76: Ergebnis und Ertragslage
...

Sheet Mutato_a
A4: =Adatok!B2 -> MOGYORÓD NONPROFIT KFT
A6: ASSETS AND CAPITAL STRUCTURE
A8: =Adatok!B6 -> 2025.
A11: ITEM | C11: CALCULATION | F11: BALANCE SHEET REF. | H11: PREVIOUS YEAR | I11: TARGET YEAR
A13: Coverage on fixed assets | C13: Issued capital | F13: D | H13: =IF(Merleg_m!U19=0,"",Merleg_m!U37/Merleg_m!U19) -> 0.11712264 | I13: =IF(Merleg_m!X19=0,"",Merleg_m!X37/Merleg_m!X19) -> 0.17215184
C14: Fixed assets | F14: A | H14: =IF(#REF!=0,"",#REF!/#REF!) -> #REF! | I14: =IF(#REF!=0,"",#REF!/#REF!) -> #REF!
A16: Coverage on tangible assets | C16: Issued capital | F16: D | H16: =IF(Merleg_m!U21=0,"",Merleg_m!U37/Merleg_m!U21) -> 0.11712264 | I16: =IF(Merleg_m!X21=0,"",Merleg_m!X37/Merleg_m!X21) -> 0.17215184
C17: Tangible assets | F17: AII | H17: =IF(#REF!=0,"",#REF!/#REF!) -> #REF! | I17: =IF(#REF!=0,"",#REF!/#REF!) -> #REF!
A19: Fixed assets ratio | C19: Fixed assets | F19: A | H19: =IF(Merleg_m!U19+Merleg_m!U23+Merleg_m!U28=0,"",Merleg_m!U19/(Merleg_m!U19+Merleg_m!U23+Merleg_m!U28)) -> 0.78676141 | I19: =IF(Merleg_m!X19+Merleg_m!X23+Merleg_m!X28=0,"",Merleg_m!X19/(Merleg_m!X19+Merleg_m!X23+Merleg_m!X28)) -> 0.75715598
C20: Assets total | F20: A+B+C | H20: =IF((#REF!+#REF!+#REF!)=0,"",#REF!/(#REF!+#REF!+#REF!)) -> #REF! | I20: =IF((#REF!+#REF!+#REF!)=0,"",#REF!/(#REF!+#REF!+#REF!)) -> #REF!
A22: Equity ratio I. | C22: Issued capital | F22: D | H22: =IF(Merleg_m!U37+Merleg_m!U45+Merleg_m!U47+Merleg_m!U51=0,"",Merleg_m!U37/(Merleg_m!U37+Merleg_m!U45+Merleg_m!U47+Merleg_m!U51)) -> 0.088060351 | I22: =IF(Merleg_m!X37+Merleg_m!X45+Merleg_m!X47+Merleg_m!X51=0,"",Merleg_m!X37/(Merleg_m!X37+Merleg_m!X45+Merleg_m!X47+Merleg_m!X51)) -> 0.12569287
C23: Liabilities total | F23: D+E+F+G | H23: =IF((#REF!+#REF!+#REF!+#REF!)=0,"",#REF!/(#REF!+#REF!+#REF!+#REF!)) -> #REF! | I23: =IF((#REF!+#REF!+#REF!+#REF!)=0,"",#REF!/(#REF!+#REF!+#REF!+#REF!)) -> #REF!
A25: Capital structure ratio I. | C25: Liabilities | F25: F | H25: =IF(Merleg_m!U37=0,"",Merleg_m!U47/Merleg_m!U37) -> 9.2866628 | I25: =IF(Merleg_m!X37=0,"",Merleg_m!X47/Merleg_m!X37) -> 6.301366
C26: Issued capital | F26: D | H26: =IF(#REF!=0,"",#REF!/#REF!) -> #REF! | I26: =IF(#REF!=0,"",#REF!/#REF!) -> #REF!
A28: Capital structure ratio II. | C28: Short-term liabilities | F28: FII | H28: =IF(Merleg_m!U37=0,"",Merleg_m!U50/Merleg_m!U37) -> 6.1820543 | I28: =IF(Merleg_m!X37=0,"",Merleg_m!X50/Merleg_m!X37) -> 4.0784245
C29: Issued capital | F29: D | H29: =IF(#REF!=0,"",#REF!/#REF!) -> #REF! | I29: =IF(#REF!=0,"",#REF!/#REF!) -> #REF!
A36: =Adatok!B2 -> MOGYORÓD NONPROFIT KFT
A38: SHORT TERM FIGURES ON FINANCIAL SITUATION
A40: =Adatok!B6 -> 2025.
A42: ITEM | C42: CALCULATION | F42: BALANCE SHEET REF. | H42: PREVIOUS YEAR | I42: TARGET YEAR
A44: Liquidity ratio | C44: Current assets | F44: B | H44: =IF(Merleg_m!U47=0,"",Merleg_m!U23/Merleg_m!U47) -> 0.18844124 | I44: =IF(Merleg_m!X47=0,"",Merleg_m!X23/Merleg_m!X47) -> 0.076016242
C45: Liabilities | F45: F
A47: Current ratio I. | C47: Current assets | F47: B | H47: =IF(Merleg_m!U50=0,"",Merleg_m!U23/Merleg_m!U50) -> 0.28307584 | I47: =IF(Merleg_m!X50=0,"",Merleg_m!X23/Merleg_m!X50) -> 0.11744882
C48: Short-term liabilities | F48: FII
A50: Current ratio II. | C50: Current assets - accounts receivable | F50: B-BII. | H50: =IF(Merleg_m!U50=0,"",(Merleg_m!U23-Merleg_m!U25)/Merleg_m!U50) -> 0.25579706 | I50: =IF(Merleg_m!X50=0,"",(Merleg_m!X23-Merleg_m!X25)/Merleg_m!X50) -> 0.10818909
C51: Short-term liabilities | F51: FII.
A53: Current ratio III. | C53: Liquid assets + securities | F53: BIV.+BIII. | H53: =IF(Merleg_m!U50=0,"",(Merleg_m!U27+Merleg_m!U26)/Merleg_m!U50) -> 0.24959963 | I53: =IF(Merleg_m!X50=0,"",(Merleg_m!X27+Merleg_m!X26)/Merleg_m!X50) -> 0.10054064
C54: Short-term liabilities | F54: FII.
A56: Accounts receivable | C56: Average Buyers | F56: (BII.1.c+BII.1.d)*(365/2/) | H56: =IF(Merleg_m!U83=0,"",(#REF!+Adatok!M11)*365/2/Merleg_m!U83) -> #REF! | I56: =IF(Merleg_m!X83=0,"",(#REF!+#REF!)*365/2/Merleg_m!X83) -> #REF!
A57: average duration, day | C57: Net Sales Revenues | F57: Er. I.
A59: Accounts payable | C59: Average Suppliers | F59: (FII.2.c+FII.2.d)*(365/2/) | H59: =IF(#REF!=0,"",(#REF!+Adatok!M13)*365/2/#REF!) -> #REF! | I59: =IF(#REF!=0,"",(#REF!+#REF!)*365/2/#REF!) -> #REF!
A60: average duration, day | C60: Material-type Expenditures | F60: Er. IV.
A62: Buyers and suppliers ratio | C62: Buyers | F62: B II. 1. | H62: =IF(#REF!=0,"",#REF!/#REF!) -> #REF! | I62: =IF(#REF!=0,"",#REF!/#REF!) -> #REF!
C63: Suppliers | F63: F II. 2.
A65: Inventory turnover | C65: Net Sales Revenues | F65: B. I.c.+B.I.d. | H65: =IF((Merleg_m!U24+Adatok!M15)/2=0,"",Merleg_m!U83/((Merleg_m!U24+Adatok!M15)/2)) -> 204.07543 | I65: =IF((Merleg_m!X24+Merleg_m!U24)/2=0,"",Merleg_m!X83/((Merleg_m!X24+Merleg_m!U24)/2)) -> 50.923921
C66: Average inventory | F66: 2
A74: =Adatok!B2 -> MOGYORÓD NONPROFIT KFT
A76: PROFIT AND PROFITABILITY
A78: =Adatok!B6 -> 2025.
I80: thousand Ft
...

Sheet Modul1

Sheet Modul2

Sheet Modul3

Sheet Modul4

Sheet Modul5

Sheet Modul6
