Workbook

Sheet eredmény
A1: MOGYORÓD NONOROFIT KFT | K1: EFT-BAN
B2: 2025.12.31. VÁLLALKOZÁSI TEV. | C2: 2025.12.31. KÖZHASZNÚ TEV. | D2: 2025.12.31 ÖSSZESEN. | E2: 2026.06.30. VÁLLALKOZÁSI TEV. | F2: 2026.06.30. KÖZHASZNÚ TEV. | G2: 2026.06.30 ÖSSZESEN. | H2: VÁLLALKOZÁSI TEV. | I2: KÖZHASZNÚ TEV. | J2: EGYÉB | K2: 2017.évi
A4: Nettó árbevétel | B4: 1822 | C4: 198376 | D4: 200198 | E4: 365 | F4: =96758+10004-E4 -> 106397 | G4: =+E4+F4 -> 106762 | H4: 0 | I4: 0 | J4: 0 | K4: =SUM(G4:J4) -> 106762
A6: Egyéb bevétel | B6: 0 | C6: 260453 | D6: 260453 | E6: 0 | F6: =146947-E6 -> 146947 | G6: =+E6+F6 -> 146947 | H6: 0 | I6: 0 | J6: 0 | K6: =SUM(G6:J6) -> 146947
L7: =+(F4+F6+I4+I6)/(K4+K6) -> 0.99856134 | M7: =2264*L7 -> 2260.7429
A8: Aktivált saját t. értéke | B8: 0 | C8: 3217 | D8: 3217 | E8: 0 | F8: 0 | G8: =+E8+F8 -> 0 | I8: 0 | J8: 0 | K8: =SUM(G8:J8) -> 0 | L8: =1-L7 -> 0.0014386561
A10: Anyagjellegű ráfordítások | B10: -589 | C10: -140076 | D10: -140665 | E10: =SUM(E11:E14) -> -17 | F10: =SUM(F11:F14) -> -81638 | G10: =+E10+F10 -> -81655 | H10: =SUM(H11:H14) -> 0 | I10: =SUM(I11:I14) -> 0 | J10: =SUM(J11:J14) -> 0 | K10: =SUM(G10:J10) -> -81655
A11: anyagköltség | B11: -203 | C11: -130692 | D11: -130895 | E11: -17 | F11: =-63734-E11-5044 -> -68761 | G11: =+E11+F11 -> -68778 | H11: 0 | I11: 0 | J11: 0 | K11: =SUM(G11:J11) -> -68778
A12: eladott áruk /szolg.beszerzési értéke | B12: 0 | C12: -193 | D12: -193 | E12: 0 | F12: -115 | G12: =+E12+F12 -> -115 | H12: 0 | I12: 0 | J12: 0 | K12: =SUM(G12:J12) -> -115
A13: igénybe vett szolgáltatás | B13: -386 | C13: -5817 | D13: -6203 | E13: 0 | F13: -10353 | G13: =+E13+F13 -> -10353 | H13: 0 | I13: 0 | J13: 0 | K13: =SUM(G13:J13) -> -10353
A14: egyéb a. költség | B14: 0 | C14: -3374 | D14: -3374 | E14: 0 | F14: =-2408-+E14-1 -> -2409 | G14: =+E14+F14 -> -2409 | H14: 0 | I14: 0 | J14: 0 | K14: =SUM(G14:J14) -> -2409
A16: Személyi jell. Ráfordítások | B16: -1050 | C16: -248204 | D16: -249254 | E16: =0 -> 0 | F16: =-102244-10542-10967-E16 -> -123753 | G16: =+E16+F16 -> -123753 | H16: 0 | I16: 0 | J16: 0 | K16: =SUM(G16:J16) -> -123753 | N16: =-33162*0.0284 -> -941.8008 | O16: -33162 | Q16: 33162 | S16: =-79644+5400+6460+615121-240000-283600+2400+50390+255000+67000+2447+24277 -> 425251 | U16: =+F16/(F4+F6) -> -0.48847812
A18: Értékcsökkenési leírás | B18: 0 | C18: -30456 | D18: -30456 | E18: 0 | F18: -21781 | G18: =+E18+F18 -> -21781 | H18: 0 | I18: 0 | J18: 0 | K18: =SUM(G18:J18) -> -21781 | N18: =-8305*0.0284 -> -235.862 | O18: =-8305 -> -8305 | Q18: 8305 | R18: 8305 | S18: 1895964
S19: 1298432
A20: Egyéb ráfordítások | B20: 0 | C20: -17692 | D20: -17692 | E20: -6 | F20: =-6-6200+-E20 -> -6200 | G20: =+E20+F20 -> -6206 | H20: 0 | I20: 0 | J20: 0 | K20: =SUM(G20:J20) -> -6206 | L20: =+G4+G6+G10+G16+G18+G20 -> 20314 | N20: =-8082*0.0284 -> -229.5288 | O20: -8082 | Q20: =7760+255+67+1 -> 8083
A21: iparűzési adó | S21: 283600
S22: =4*60000 -> 240000
A23: Üzemi eredmény | B23: 183 | C23: 25619 | D23: 25802 | E23: =+E4+E6+E10+E8+E16+E18+E20 -> 342 | F23: =+F4+F6+F10+F8+F16+F18+F20+1 -> 19973 | G23: =+E23+F23 -> 20315 | H23: =+H4+H6+H10+H8+H16+H18+H20 -> 0 | I23: =+I4+I6+I10+I8+I16+I18+I20 -> 0 | J23: =+J4+J6+J10+J8+J16+J18+J20 -> 0 | K23: =SUM(G23:J23) -> 20315 | N23: =+N4+N6+N10+N8+N16+N18+N20 -> -1407.1916 | O23: =+O4+O6+O10+O8+O16+O18+O20 -> -49549 | P23: 1604 | Q23: =SUM(Q4:Q22) -> 49550
Q24: =+Q23*0.0284 -> 1407.22
A25: Pénzügyi eredmény | B25: 0 | C25: 0 | D25: 0 | E25: =SUM(E26:E27) -> 0 | F25: =SUM(F26:F27) -> 0 | G25: =+E25+F25 -> 0 | I25: =SUM(I26:I27) -> 0 | J25: 0 | K25: =SUM(G25:J25) -> 0
A26: Pénzügyi műveletek bevétele | B26: 0 | C26: 0 | D26: 0 | E26: =((G26)/(G$6+G$4))*(E$4+E$6) -> 0 | F26: 0 | G26: 0 | H26: 0 | I26: 0 | K26: =SUM(G26:J26) -> 0 | S26: 488556
A27: Pénzügyi műveletek ráfordításai | B27: 0 | C27: 0 | D27: 0 | E27: =((G27)/(G$6+G$4))*(E$4+E$6) -> 0 | F27: 0 | G27: 0 | I27: =+(F27)/3 -> 0 | K27: =SUM(G27:J27) -> 0
A29: Szokásos Váll. Eredmény | B29: 183 | C29: 25619 | D29: 25802 | E29: =+E23+E25 -> 342 | F29: =+F23+F25 -> 19973 | G29: =+E29+F29 -> 20315 | H29: =+H23+H25 -> 0 | I29: =+I23+I25 -> 0 | J29: =+J23+J25 -> 0 | K29: =SUM(G29:J29) -> 20315
B31: 0 | C31: 0 | D31: 0 | E31: =SUM(E32:E33) -> 0 | F31: =SUM(F32:F33) -> 0 | G31: =+E31+F31 -> 0 | I31: =SUM(I32:I33) -> 0 | J31: 0 | K31: =SUM(G31:J31) -> 0
B32: 0 | C32: 0 | D32: 0 | E32: =((G32)/(G$6+G$4))*(E$4+E$6) -> 0 | F32: =(G32)/(G$6+G$4)*(F$4+F$6) -> 0 | G32: 0
B33: 0 | C33: 0 | D33: 0 | E33: 0 | F33: 0 | G33: =+E33+F33 -> 0 | K33: =SUM(F33:J33) -> 0
A35: Adózás előtti eredmény | B35: 183 | C35: 25619 | D35: 25802 | E35: =+E29+E31 -> 342 | F35: =+F29+F31 -> 19973 | G35: =+E35+F35 -> 20315 | H35: =+H29+H31 -> 0 | I35: =+I29+I31 -> 0 | J35: =+J29+J31 -> 0 | K35: =+K29+K31 -> 20315
A37: Adófizetési kötelezettség | B37: 0 | C37: 0 | E37: 0 | F37: 0 | J37: 0 | K37: =SUM(G37:J37) -> 0
A39: Korr. Adófizetési kötelezettség | B39: -8.3006129 | C39: 0 | D39: -8.3006129 | E39: =-ta!E77 -> -2.6225981 | F39: =+F37-0 -> 0 | G39: =+E39 -> -2.6225981 | H39: 0 | I39: 0 | J39: =+J37-0 -> 0 | K39: =-+ta!E77 -> -2.6225981
A40: (ELVÁRT ADÓ)
A41: Adózott eredmény | B41: 174.69939 | C41: 25619 | D41: 25793.699 | E41: =+E35+E39 -> 339.3774 | F41: =+F35+F39 -> 19973 | G41: =+E41+F41 -> 20312.377 | H41: =+H35+H39 -> 0 | I41: =+I35+I39 -> 0 | J41: =+J35+J39 -> 0 | K41: =+K35+K39-1 -> 20311.377
A44: 46181

Sheet iparűzési adó
A1: =[1]Hivatkozasok!B2 -> 0 | E1: =[1]Hivatkozasok!B3 -> 0
G2: M13-06
A3: IPARŰZÉSI ADÓ ELLENŐRZÉSE 1990. évi C. tv.
A5: MEGNEVEZÉS | F5: § | G5: ÖSSZEG (Ft)
A6: ÉRTÉKESÍTÉS NETTÓ ÁRBEVÉTELE (***) | B6: Számviteli törvény szerinti nettó árbevétel, CSÖKKENTVE: | F6: 39. § (1), 52. § 22.a) | G6: =+eredmény!E4 -> 365
B7: A társasági adóról, és osztalékadóról szóló törvény szerinti jogdíjból származó, árbevételként elszámolt ellenértékkel
B8: Egyéb szolgáltatások értékeként, ill. egyéb ráfordítások között kimutatott, adóhatósággal elszámolt jövedéki adó összeggel
B9: Egyéb ráfordítások között kimutatott, az adóhatósággal elszámolt regisztrációs adó, energia adó összeggel
B10: Felszolgálási díj árbevételével (külön jogszabály szerint)
B11: ÖSSZESEN: | G11: =+G6-G7-G8-G9-G10 -> 365
A13: ADÓALAPOT CSÖKKENTŐ TÉTELEK | B13: Eladott áruk beszerzési értéke | F13: 39. § (1), 52. § 36. | G13: 0
B14: Közvetített szolgáltatások értéke | F14: 39. § (1), 52. § 40. | G14: 0
B15: Anyagköltség | F15: 39. § (1), 52. § 37., 38. | G15: =-eredmény!E11 -> 17
B16: ÖSSZESEN: | G16: =SUM(G13:G15) -> 17
A17: VÁLLALKOZÁSI SZINTŰ IPARŰZÉSI ADÓ ALAPJA: | G17: =+G11-G16 -> 348
A19: ADÓALAP MENTESSÉG | B19: A foglalkoztatás növeléséhez kapcsolódó adóalap-menteség összege | F19: 39/D. § (1)-(6)
B20: Külföldön létesített telephelyen végzett tevékenységre jutó adóalap-mentesség | F20: 39. § (1)
B21: ÖSSZESEN: | G21: =SUM(G19:G20) -> 0
A22: ADÓALAP KEDVEZMÉNY | F22: 39/C. § (1)-(3)
B27: ÖSSZESEN: | G27: =SUM(G22:G26) -> 0
A28: IPARŰZÉSI ADÓ ALAPJA: | G28: =IF(+G17-G21-G27>0,+G17-G21-G27,0) -> 348
A31: Telephelyek megnevezése (52. § 31.) | B31: Adóalap felosztási %-a * (Függelék) | C31: Adó mértéke (%)** | D31: Helyi iparűzési adó összege Ft | E31: ADÓ-KEDVEZMÉNY | G31: Fizetendő adó
A33: MOGYORÓD | B33: 100 | C33: 1.8 | D33: =IF(B33>0,SUM($G$28*B33*C33)/10000,0) -> 6.264 | E33: 0 | G33: =IF(D33-E33>0,D33-E33,0) -> 6.264
B34: 0 | C34: 1.4 | D34: =IF(B34>0,SUM($G$28*B34*C34)/10000,0) -> 0 | G34: =IF(D34-E34>0,D34-E34,0) -> 0
B35: 0 | C35: 1.5 | D35: =IF(B35>0,SUM($G$28*B35*C35)/10000,0) -> 0 | G35: =IF(D35-E35>0,D35-E35,0) -> 0
D36: =IF(B36>0,SUM($G$28*B36*C36)/10000,0) -> 0 | G36: =IF(D36-E36>0,D36-E36,0) -> 0
D37: =IF(B37>0,SUM($G$28*B37*C37)/10000,0) -> 0 | G37: =IF(D37-E37>0,D37-E37,0) -> 0
B38: =SUM(B33:B37) -> 100 | C38: IPARŰZÉSI ADÓ ÖSSZESEN: | G38: =SUM(G33:G37) -> 6.264
A39: Könyvelt
A40: Eltérés | G40: =SUM(G39-G38) -> -6.264

Sheet ta
A2: M13-03 TÁRSASÁGI ADÓ
A3: 1996. évi LXXXI. tv. (2010.08.16-i állapot szerint)
C6: Adatok ezer Ft-ra kerekítve
A7: Megnevezés | C7: § | E7: 2026 | F7: Eredmény- kimutatás
A8: Adózás előtti eredmény | E8: =+eredmény!G35 -> 20315 | F8: E
A9: Adóalap módosító tételek
A10: 1 | B10: Korábbi évek elhatárolt veszteségéből felhasználás | C10: [7.§ (1) a); 16.§ (5); 17.§; 29.§ (2); 29/C.§ (8); 29/F.§ (2)] | D10: - | E10: 0
B11: (A tárgyévi felhasználás után még továbbvihető veszteség) | C11: [17. §] | E11: 0
A12: 2 | B12: Várható kötelezettségekre, a jövőbeni költségekre képzett adóévben ráfordításként elszámolt céltartalék | C12: [8.§ (1) a)] | D12: +
A13: 3 | B13: Várható kötelezettségekre, költségekre képzett céltartalék felhasználása miatt adóévben bevételként elszámolt összeg | C13: [7.§ (1) b)] | D13: -
A14: 4 | B14: Számviteli törvény szerinti terv szerinti értékcsökkenés | C14: [8.§ (1) b)] | D14: + | E14: =-eredmény!K18 -> 21781
A15: 5 | B15: Számviteli törvény szerinti terven felüli értékcsökkenés | C15: [8.§ (1) b)] | D15: + | E15: =[2]Hivatkozasok!B6 -> 0
A16: 6 | B16: Számviteli törvény szerinti tárgyi eszköz állományból kivezetett, átsorolt eszköz könyv szerinti értéke | C16: [8.§ (1) b)] | D16: +
A17: 7 | B17: Társasági adó törvény szerinti adóévre elszámolható értékcsökkenés | C17: [7.§ (1) d); 1. és 2.számú melléklet] | D17: - | E17: 21925
A18: 8 | B18: Társasági adó törvény szerint tárgyi eszköz állományból kivezetett, átsorolt eszköz számított nyilvántartási értéke | C18: [7.§ (1) d); 1. és 2.számú melléklet] | D18: -
A19: 9 | B19: Társasági adó törvény szerinti terven felüli értékcsökkenés visszaírása az adóévben figyelemmel a törvényben meghatározott kivételekre | C19: [7.§ (1) cs)] | D19: -
A20: 10 | B20: Fejlesztési tartalék adóévben képzett összege, maximum az adózás előtti eredmény 50 százaléka, és legfeljebb 500 millió forint | C20: [7.§ (1) f); 7.§ (15); 16.§ (1) a); 29./I. § (5)] | D20: - | E20: 0
A21: 11 | B21: Ráfordításként elszámolt jogerős bírság, Art. és Tb-törvények szerinti jogkövetkezmények az önellenőrzési pótlék kivételével | C21: [8.§ (1) e)] | D21: + | E21: 0
A22: 12 | B22: Elengedett – az adóévben vagy az előző években adóalapot növelő tételként beállított, bevételként elszámolt Art. és Tb-törvényekben előírt jogkövetkezmények | C22: [7.§ (1) r)] | D22: -
A23: 13 | B23: Adóévben követelésre elszámolt értékvesztés | C23: [8.§ (1) gy)] | D23: +
A24: 14 | B24: Követelésre adóévben visszaírt értékvesztés, valamint a tulajdoni részesedésre visszaírt értékvesztés, ha azt az adózó korábban adózás előtti eredményt növelő tételként vette számításba, amelyet az erre vonatkozó adóbevallással és az azt alátámasztó kimutatásokkal igazol. | C24: [7.§ (1) n), q); 16.§ (2) i)] | D24: -
A25: 15 | B25: Behajthatatlan követelésnek nem minősülő adóévben elengedett követelés | C25: [8.§ (1) h)] | D25: +
A26: 16 | B26: A követelés behajthatatlanná válásakor a behajthatatlan rész, legfeljebb a korábban növelő tételként elszámolt és még le nem vont értékvesztés | C26: [7.§ (1) n); 16.§ (2) i)] | D26: -
A27: 17 | B27: A követelés átruházásakor, kiegyenlítésekor, beszámításakor elszámolandó összeg, de legfeljebb a nyilvántartott értékvesztés | C27: [7.§ (1) n); 16.§ (2) i)] | D27: -
A28: 18 | B28: Adomány, támogatás meghatározott összege | C28: [7.§ (1) z); (7); 29/C.§ (7)] | D28: -
A29: 19 | B29: Adóellenőrzés, önellenőrzés során megállapított adóévi költségként, ráfordításként vagy nettó árbevétel és bevétel, aktivált saját teljesítmény csökkentéseként elszámolt összeg | C29: [8.§ (1) p)] | D29: +
A30: 20 | B30: Adóellenőrzés, önellenőrzés során megállapított nettó árbevételként, bevételként vagy aktivált saját teljesítmény növeléseként, költség, ráfordítás csökkenéseként elszámolt összeg | C30: [7.§ (1) u)] | D30: -
A31: 21 | B31: Kapott (járó) osztalék, részesedés (a törvényben meghatározott kivételekkel) | C31: [7.§ (1) g), gy); 4.§ 11.] | D31: -
A32: 22 | B32: Ellenőrzött külföldi társaságban fennálló részesedésre jutó fel nem osztott nyereség | C32: [8.§ (1) f)] | D32: +
A33: 23 | B33: Szakképző iskolai tanuló kedvezménye | C33: [7.§ (1) i)] | D33: -
A34: 24 | B34: Megváltozott munkaképességűek foglalkoztatási kedvezménye | C34: [7.§ (1) v)] | D34: -
A35: 25 | B35: Kis- és középvállalkozások által igénybe vett beruházási kedvezmény | C35: [7.§ (1) zs); (11)-(12); 4.§ 18., 34/a)] | D35: - | E35: 0
A36: 26 | B36: Beruházás,szellemi termék értékéből meghatározott esetekben az elszámolt összeg kétszerese | C36: [8.§ (1) u)] | D36: +
A37: 27 | B37: Kapcsolt vállalkozások között a szokásos piaci ár és az alkalmazott ellenérték alapján számított különbözetnek megfelelő összeg | C37: [18.§ (1) b); 4.§ 23.] | D37: +
A38: 28 | B38: Kapcsolt vállalkozások között a szokásos piaci ár és az alkalmazott ellenérték különbségének megfelelő összeg | C38: [18.§ (1) a); 4.§ 23.] | D38: -
A39: 29 | B39: Nem a vállalkozás érdekében felmerült, költségként, ráfordításként elszámolt összeg | C39: [8.§ (1) d); 3.számú melléklet] | D39: + | E39: 0
A40: 30 | B40: 2009. december 31-ig kapott támogatás, juttatás, elengedett kötelezettség miatt az adóévben bevételként elszámolt összeg meghatározott feltételek szerint. | C40: [29/I.§ (2)] | D40: -
A41: 31 | B41: Műemlék értékét növelő felújítás költsége | C41: [7.§ (1) ty)] | D41: -
A42: 32 | B42: Saját tőke háromszorosát meghaladó kötelezettség elszámolt kamatának arányos része (alultőkésítési szabály) | C42: [8.§ (1) j); 8.§ (2), (5)] | D42: +
A43: 33 | B43: A forintról devizára, devizáról forintra, vagy devizáról más devizára való áttérés során a tőketartalék növeléseként elszámolt átszámítási különbözetek összege az áttérést követő adóévben | C43: [8.§ (1) o)] | D43: +
...

Sheet elvart
A2: Jövedelem-(nyereség-)minimum
A3: 1996. évi LXXXI. tv.
F5: eFt
A6: Megnevezés | D6: § | F6: Tárgyidőszaki adat
A7: Bevételek | B7: Értékesítés nettó árbevétele | D7: 2000. évi C. tv. 72-75. § | F7: =+eredmény!K4 -> 106762
B8: Egyéb bevételek | D8: 2000. évi C. tv 77. § | F8: =+eredmény!K6 -> 146947
B9: Pénzügyi műveletek bevétele | D9: 2000. évi C. tv 84. § | F9: =+eredmény!K26 -> 0
B10: Rendkívüli bevételek | D10: 2000. évi C. tv 86. § (2)-(5) bekezdés | F10: =+eredmény!K32 -> 0
B11: Összes bevétel: | D11: 4. § 4.29 | F11: =SUM(F7:F10) -> 253709
A13: Bevételt növelő tételek: | B13: A jogelőd kedvezményezett átalakulására, illetve kedvezményezett részesedéscserére tekintettel a tag, a részvényes az általa csökkentő tételként figyelembe vett összegből a megszerzett részesedés bekerülési értéke csökkentéseként, könyv szerinti értéke kivezetéseként az adóévben bármely jogcímen elszámolt (de összesen legfeljebb a részesedésre az említett rendelkezés alapján csökkentő tételként figyelembe vett) összeg, továbbá jogutód nélküli megszűnésének adóévében az a rész, amelyet még nem számolt el növelő tételként. | D13: 6.§ (9) a) | E13: +
B14: Az átvevő társaság - az átruházó nyilatkozata alapján - az átruházónál az összes bevétel csökkentéseként figyelembe vett összegből az átvett tárgyi eszközökre és immateriális javakra a számviteli előírás alapján elszámolt értékcsökkenésnek az átvett eszközök bekerülési értéke arányában számított összeggel, továbbá jogutód nélküli megszűnésének adóévében a fennmaradó összeggel. | D14: 6.§ (9) b) | E14: +
B15: Bevételt növelő tételek összesen: | E15: + | F15: =+F13+F14 -> 0
A17: Bevételt csökkentő tételek: | B17: az eladott áruk beszerzési értéke | D17: 6.§ (8) a) | E17: - | F17: 0
B18: eladott közvetített szolgáltatás értéke | D18: 6.§ (8) a) | E18: - | F18: =[3]Hivatkozasok!B9 -> 0
B19: a jogelőd tagjánál, részvényesénél - a kedvezményezett átalakulással létrejött adózóban szerzett részesedés bekerülési értékeként - az adóévben elszámolt bevétel | D19: 6.§ (8) b) | E19: -
B20: az átruházó társaságnál kedvezményezett eszközátruházás esetén az önálló szervezeti egységének átruházása alapján az adóévben elszámolt bevétel | D20: 6.§ (8) c) | E20: -
B21: a megszerzett társaság tagjánál, részvényesénél a kedvezményezett részesedéscsere alapján kivezetett részesedésre az adóévben elszámolt árfolyamnyereség | D21: 6.§ (8) d) | E21: -
B22: Bevételt csökkentő tételek összesen: | E22: - | F22: =SUM(F17:F21) -> 0
B23: Korrigált összes bevétel Figyelem! (A 6. § (5) bekezdés b pontja alapján a nemzetközi szerződések rendelkezéseit figyelembe véve a külföldi telephely útján végzett tevékenység révén keletkezett, telephelynek betudható jövedelem-(nyereség)minimum nélküli jövedelem-(nyereség)minimum a korrigált bevétel. | F23: =+IF(+F11+F15-F22<=0,0,+F11+F15-F22) -> 253709
B24: Adózás előtti eredmény | D24: 6.§ (5) | F24: =+eredmény!K35 -> 20315
B25: Társasági adóalap | D25: 6.§ (1) | F25: =+ta!E65 -> 20255
B26: Jövedelem-(nyereség)minimum szerinti adóalap (korrigált bevétel 2%-a) | D26: 6.§ (7) | F26: =+IF(F23<0,0,+F23*2%) -> 5074.18
B27: Jövedelem-(nyereség)minimum adóalapból 10 %-kal adózó rész | F27: =+F26*0.09 -> 456.6762
B28: Jövedelem-(nyereség)minimum adóalapból 16 %-kal adózó rész | F28: =+IF(OR(F27>F26,F27<0,OR(F24>F26,F25>F26)),0,F26-F27) -> 0
B29: Adó összege (jövedelem-(nyereség)minimum alapján) (16% vagy 10/16%) | C29: =IF(OR(F24>F26,F25>F26),"AZ ADÓT NEM JÖVEDELEM-(NYERESÉG) minimum alapján határozza meg !","") -> AZ ADÓT NEM JÖVEDELEM-(NYERESÉG) minimum alapján határozza meg ! | F29: =IF(OR(F24>F26,F25>F26,F27<0,G27<>""),0,F27*10%+F28*16%) -> 0

Sheet Munka1
